BEGIN:VCALENDAR
VERSION:2.0
PRODID:-//Three Pillars Senior Living Communities - ECPv6.15.20//NONSGML v1.0//EN
CALSCALE:GREGORIAN
METHOD:PUBLISH
X-WR-CALNAME:Three Pillars Senior Living Communities
X-ORIGINAL-URL:https://www.threepillars.org
X-WR-CALDESC:Events for Three Pillars Senior Living Communities
REFRESH-INTERVAL;VALUE=DURATION:PT1H
X-Robots-Tag:noindex
X-PUBLISHED-TTL:PT1H
BEGIN:VTIMEZONE
TZID:UTC
BEGIN:STANDARD
TZOFFSETFROM:+0000
TZOFFSETTO:+0000
TZNAME:UTC
DTSTART:20230101T000000
END:STANDARD
END:VTIMEZONE
BEGIN:VEVENT
DTSTART;TZID=UTC:20241108T100000
DTEND;TZID=UTC:20241108T110000
DTSTAMP:20260421T114831
CREATED:20241022T203003Z
LAST-MODIFIED:20241022T203003Z
UID:3187-1731060000-1731063600@www.threepillars.org
SUMMARY:Brain Health Webinar - The Mind Body Connection
DESCRIPTION:Brain Health Webinar-The Mind-Body Connection: How metabolic health contributes to brain health |  November 8th | 10am | Holz Pavilion Chapel  \nGood brain health and the prevention of dementia are influenced by factors such as blood sugar levels\, cholesterol\, blood pressure\, and body weight\, collectively referred to as metabolic health. Dr. Taryn James from UW-Madison discusses how these factors affect cognition and the risk of developing dementia\, as well as strategies to reduce this risk and enhance brain health and function. This pre-recorded webinar is hosted by the Wisconsin Alzheimer’s Disease Research Center.
URL:https://www.threepillars.org/event/brain-health-webinar-the-mind-body-connection/
LOCATION:Holz Pavilion Theater\, 314 E Village Ct\, Dousman\, WI\, 53188\, United States
CATEGORIES:Community Education,Wellness Connection
ATTACH;FMTTYPE=image/png:https://www.threepillars.org/wp-content/uploads/2024/10/Brain-Health.png
END:VEVENT
BEGIN:VEVENT
DTSTART;TZID=UTC:20241114T113000
DTEND;TZID=UTC:20241114T133000
DTSTAMP:20260421T114831
CREATED:20240301T172055Z
LAST-MODIFIED:20241021T191146Z
UID:2604-1731583800-1731591000@www.threepillars.org
SUMMARY:Lunch & Learn |  Ellie Presents:  Phyllis Diller is ON!
DESCRIPTION:Lunch & Learn |  Ellie Presents:  Phyllis Diller is ON! \nPresented by Ellie Carlson \nStep into the world of Phyllis Diller\, a comedy icon who was always “on.” From 1955 to 2002\, Phyllis lit up stages and screens as a stand-up comedienne\, actress\, voice-over artist\, and more. In this captivating performance\, Ellie Presents offers a unique look behind the curtain—exploring Phyllis Diller both onstage and off.  Audiences will be treated to her legendary humor and a rare glimpse into the woman behind the laughs. \nDate: Thursday\, November 14 \nTime: 11:30AM – 1:30PM \nLocation: Village on the Square\, 314 E Village Ct\, Dousman\, WI \nLunch begins at 11:15AM in River’s Edge Restaurant. \nPresentation begins at 12:15PM. ($15.00/person) \nA free version of this presentation without lunch repeats in the Compass Point Pavilion Theater at 2pm.  Registration not required for the 2pm showing. \n  \nMenu:  \nWild Rice Soup \nCreamed wild rice soup with vegetables. \nMaple Dijon Pork Tenderloin \nSlow roasted pork tenderloin with maple Dijon sauce. Served with roasted Brussels sprouts and mashed sweet potatoes \nPumpkin Mousse \nWith gingersnap cookies. \n  \n\n**Please alert us to any food allergy and to see if we can make accommodations.** \n\n\nContact Tine Rose at 262-965-7232 for this. \n  \nLink straight to registration: https://threepillars.salsalabs.org/lunchlearnnovember2024?page=register
URL:https://www.threepillars.org/event/ellie-presents-phyllis-diller-is-on/
LOCATION:Village on the Square Community Room\, 314 E Village Court\, Dousman\, WI\, 53118
CATEGORIES:Community Education
END:VEVENT
BEGIN:VEVENT
DTSTART;TZID=UTC:20241115T143000
DTEND;TZID=UTC:20241115T153000
DTSTAMP:20260421T114831
CREATED:20241022T203317Z
LAST-MODIFIED:20241022T203317Z
UID:3190-1731681000-1731684600@www.threepillars.org
SUMMARY:Stroke Awareness
DESCRIPTION:Stroke Awareness | November 15 | 2:30pm | Holz Pavilion Theater \nPresented by:  Adrienne Mayberry\, MSN\, RN\, ProHealth Care Stroke Program Coordinator \nFREE – No Registration Required \nJoin us for an insightful presentation on stroke awareness and response. We’ll explore key factors that increase stroke risk\, common signs and symptoms to watch for\, and immediate steps to take if you suspect someone is having a stroke.
URL:https://www.threepillars.org/event/stroke-awareness/
LOCATION:Holz Pavilion Theater\, 314 E Village Ct\, Dousman\, WI\, 53188\, United States
CATEGORIES:Community Education,Wellness Connection
ATTACH;FMTTYPE=image/png:https://www.threepillars.org/wp-content/uploads/2024/10/Stroke-Awareness.png
END:VEVENT
END:VCALENDAR