BEGIN:VCALENDAR
VERSION:2.0
PRODID:-//Three Pillars Senior Living Communities - ECPv6.15.20//NONSGML v1.0//EN
CALSCALE:GREGORIAN
METHOD:PUBLISH
X-WR-CALNAME:Three Pillars Senior Living Communities
X-ORIGINAL-URL:https://www.threepillars.org
X-WR-CALDESC:Events for Three Pillars Senior Living Communities
REFRESH-INTERVAL;VALUE=DURATION:PT1H
X-Robots-Tag:noindex
X-PUBLISHED-TTL:PT1H
BEGIN:VTIMEZONE
TZID:UTC
BEGIN:STANDARD
TZOFFSETFROM:+0000
TZOFFSETTO:+0000
TZNAME:UTC
DTSTART:20250101T000000
END:STANDARD
END:VTIMEZONE
BEGIN:VEVENT
DTSTART;TZID=UTC:20260420T100000
DTEND;TZID=UTC:20260420T110000
DTSTAMP:20260419T122608
CREATED:20250613T191802Z
LAST-MODIFIED:20260401T205951Z
UID:3777-1776679200-1776682800@www.threepillars.org
SUMMARY:Cozy Kitchen Club
DESCRIPTION:Connection. Conversation\, and Community!  \nJoin the Cozy Kitchen Club at Three Pillars \n  \nCozy Kitchen Club \nApril 20\, 2026 | 10am – 11am | Wellness Connection Kitchen \n404 N. Main Street\, Dousman\, WI 53118 \n  \nWho’s Invited: \nIndividuals living with dementia and their caregivers are warmly invited to join the Cozy Kitchen Club\, hosted by Three Pillars’ Wellness Connection. These friendly meetups offer a supportive\, engaging space for those in the early to middle stages of dementia to enjoy the simple pleasures of cooking together. \nIn our cozy kitchen\, participants will prepare\, cook\, and share a light snack—all while fostering connection\, conversation\, and community. \nCaregivers:\nCaregivers are kindly asked to remain on-site during the session. While your loved one participates\, you’re welcome to relax\, take a tour of the Wellness Connection\, or enjoy a complimentary workout in the fitness center. \nFree & Open to the Public\nRegistration is required. Space is limited. \nPlease RSVP at least one week in advance to ensure adequate supplies.\nJen Graf\, Senior Director of Dementia Programming\n📞 262.965.7133
URL:https://www.threepillars.org/event/cozy-kitchen-club/
LOCATION:Wellness Connection\, 404 N. Main Street\, Dousman\, WI\, 53118\, United States
CATEGORIES:Cognitive Health Initiatives,Community Education,Wellness Connection
ATTACH;FMTTYPE=image/png:https://www.threepillars.org/wp-content/uploads/2025/06/Cozy-Kitchen-Club-1.png
END:VEVENT
BEGIN:VEVENT
DTSTART;TZID=UTC:20260424T110000
DTEND;TZID=UTC:20260424T120000
DTSTAMP:20260419T122608
CREATED:20260313T143539Z
LAST-MODIFIED:20260313T144201Z
UID:4826-1777028400-1777032000@www.threepillars.org
SUMMARY:Let's Talk Tai Chi
DESCRIPTION:A Three Pillars Movement Disorder Group \nPresented by: Jennifer Jackson\, Adult Program Director for the City of Whitewater \nEveryone is welcome to join Jennifer Jackson\, Adult Program Director for the City of Whitewater\, for an engaging session on the ancient art of Tai Chi. Discover how this gentle\, purposeful practice can enhance both physical and mental wellbeing. Although the Movement Disorder Group is designed to support individuals living with conditions such as Parkinson’s disease\, essential tremor\, Tourette’s\, MS\, dystonia\, restless leg syndrome\, and more\, this session is open to anyone interested in exploring the benefits of Tai Chi. \nFriday\, April 24 | 11am – 12pm\nHolz Pavilion Theater\n314 East Village Court\, Dousman\, WI 53118 \n  \nFREE EVENT. OPEN TO THE PUBLIC.\nRegistration appreciated but not required. \nJen Graf\, Senior Director of Cognitive Health\n 262.965.7133 or Email: Jgraf@threepillars.org \n*Residents can sign-up via the portal.
URL:https://www.threepillars.org/event/lets-talk-tai-chi/
LOCATION:Holz Pavilion Theater\, 314 E Village Ct\, Dousman\, WI\, 53188\, United States
CATEGORIES:Cognitive Health Initiatives,Community Education
ATTACH;FMTTYPE=image/jpeg:https://www.threepillars.org/wp-content/uploads/2026/03/Event-Lets-Talk-Tai-Chi-scaled.jpg
END:VEVENT
BEGIN:VEVENT
DTSTART;TZID=UTC:20260424T120000
DTEND;TZID=UTC:20260424T130000
DTSTAMP:20260419T122608
CREATED:20260116T203446Z
LAST-MODIFIED:20260331T190831Z
UID:4494-1777032000-1777035600@www.threepillars.org
SUMMARY:Monthly Brain Health Booster Class! Spring Reset: Clear\, Focus\, Flourish
DESCRIPTION:MONTHLY BRAIN HEALTH BOOSTER CLASSES! \nProven brain-health strategies. Real-world results. \nSpring Reset: Clear\, Focus\, Flourish \nRefresh your mind. Reset your focus. Reclaim your clarity. \n\nFriday\, April 24\, 2026 | 12 – 1pm | $10 \nHolz Pavilion Theater\n314 East Village Court | Dousman\, WI 53118 \nAs spring unfolds\, this energizing session will help you “declutter” your thinking and sharpen your focus. Led live online by Dr. Michelle Braun\, national brain health expert\, neuropsychologist\, and author of High-Octane Brain: 5 Science-Based Steps to Sharpen Your Memory and Reduce Your Risk of Alzheimer’s\, with onsite facilitation at Three Pillars Senior Living Communities\, this session will help you enhance your attention\, organization\, and cognitive efficiency through socially-based cognitive exercises\, discussion\, and live Q&A with Dr. Braun. A spring-inspired MIND Diet brain-healthy recipe is included! Join us! \n  \nOpen to residents and the Public. Registration required by 4/22/26 \nThis program is designed for adults experiencing typical age-related memory changes. \n  \nREADY TO SIGN UP? Contact Jen Graf\, Senior Director of Cognitive Health at 262.965.7133 (Residents  can register via the portal). \n 
URL:https://www.threepillars.org/event/monthly-brain-health-booster-classes-spring-reset-clear-focus-flourish/
LOCATION:Holz Pavilion Theater\, 314 E Village Ct\, Dousman\, WI\, 53188\, United States
CATEGORIES:Cognitive Health Initiatives,Community Education
ATTACH;FMTTYPE=image/jpeg:https://www.threepillars.org/wp-content/uploads/2026/01/Event-High-Octane-Brain-Fitness-April-2026-scaled.jpg
END:VEVENT
BEGIN:VEVENT
DTSTART;TZID=UTC:20260427T130000
DTEND;TZID=UTC:20260427T140000
DTSTAMP:20260419T122608
CREATED:20260310T162744Z
LAST-MODIFIED:20260310T162744Z
UID:4807-1777294800-1777298400@www.threepillars.org
SUMMARY:The Power in Your Power of Attorney
DESCRIPTION:The Power in Your Power of Attorney\nPresented by Matthew Grover\, By Your Side Care Management \nBrain Health Group \nMonday\, April 27 | 1–2 PM\nHolz Pavilion – Theater\n314 East Village Court | Dousman\, WI 53118 \nPlanning ahead for your health care decisions can bring peace of mind for you and your loved ones. This presentation explores how a thoughtfully crafted Health Care Power of Attorney empowers you to guide your future medical care with clarity and confidence. \nYou’ll learn the essential steps to creating a Health Care Power of Attorney\, including how to identify and choose the right person to serve as your decision-maker—someone who can honor your values and wishes if you are unable to speak for yourself. \nIf you already have a Health Care Power of Attorney in place\, this session will also explain when the document becomes active and the important responsibilities and authority your chosen agent may carry out on your behalf. \nParticipants will leave with a clear understanding of how this vital document helps protect their preferences and supports their overall well-being. \nSpeaker Bio \nMatthew Grover\, Intake Coordinator and Marketing Liaison for By Your Side Care Management\, studied Organizational Communication and Sociology at the University of Missouri. Their career began in public health and later transitioned to community organizing\, with a strong focus on grassroots advocacy and education. Matthew is dedicated to a client-centered approach\, listening carefully to understand and address the unique needs of each individual. \n  \nFREE EVENT – OPEN TO THE PUBLIC\nRegistration appreciated but not required.\nResidents can sign up via the portal. \nContact: Jen Graf\, Senior Director of Cognitive Health\n262.965.7133 or Email: Jgraf@threepillars.org
URL:https://www.threepillars.org/event/the-power-in-your-power-of-attorney/
LOCATION:Holz Pavilion Theater\, 314 E Village Ct\, Dousman\, WI\, 53188\, United States
CATEGORIES:Cognitive Health Initiatives,Community Education
ATTACH;FMTTYPE=image/png:https://www.threepillars.org/wp-content/uploads/2026/03/Event-Pic-The-Power-in-Your-Power-of-Attorney-scaled.png
END:VEVENT
END:VCALENDAR