BEGIN:VCALENDAR
VERSION:2.0
PRODID:-//Three Pillars Senior Living Communities - ECPv6.15.20//NONSGML v1.0//EN
CALSCALE:GREGORIAN
METHOD:PUBLISH
X-ORIGINAL-URL:https://www.threepillars.org
X-WR-CALDESC:Events for Three Pillars Senior Living Communities
REFRESH-INTERVAL;VALUE=DURATION:PT1H
X-Robots-Tag:noindex
X-PUBLISHED-TTL:PT1H
BEGIN:VTIMEZONE
TZID:UTC
BEGIN:STANDARD
TZOFFSETFROM:+0000
TZOFFSETTO:+0000
TZNAME:UTC
DTSTART:20250101T000000
END:STANDARD
END:VTIMEZONE
BEGIN:VEVENT
DTSTART;TZID=UTC:20260427T130000
DTEND;TZID=UTC:20260427T140000
DTSTAMP:20260421T120345
CREATED:20260310T162744Z
LAST-MODIFIED:20260310T162744Z
UID:4807-1777294800-1777298400@www.threepillars.org
SUMMARY:The Power in Your Power of Attorney
DESCRIPTION:The Power in Your Power of Attorney\nPresented by Matthew Grover\, By Your Side Care Management \nBrain Health Group \nMonday\, April 27 | 1–2 PM\nHolz Pavilion – Theater\n314 East Village Court | Dousman\, WI 53118 \nPlanning ahead for your health care decisions can bring peace of mind for you and your loved ones. This presentation explores how a thoughtfully crafted Health Care Power of Attorney empowers you to guide your future medical care with clarity and confidence. \nYou’ll learn the essential steps to creating a Health Care Power of Attorney\, including how to identify and choose the right person to serve as your decision-maker—someone who can honor your values and wishes if you are unable to speak for yourself. \nIf you already have a Health Care Power of Attorney in place\, this session will also explain when the document becomes active and the important responsibilities and authority your chosen agent may carry out on your behalf. \nParticipants will leave with a clear understanding of how this vital document helps protect their preferences and supports their overall well-being. \nSpeaker Bio \nMatthew Grover\, Intake Coordinator and Marketing Liaison for By Your Side Care Management\, studied Organizational Communication and Sociology at the University of Missouri. Their career began in public health and later transitioned to community organizing\, with a strong focus on grassroots advocacy and education. Matthew is dedicated to a client-centered approach\, listening carefully to understand and address the unique needs of each individual. \n  \nFREE EVENT – OPEN TO THE PUBLIC\nRegistration appreciated but not required.\nResidents can sign up via the portal. \nContact: Jen Graf\, Senior Director of Cognitive Health\n262.965.7133 or Email: Jgraf@threepillars.org
URL:https://www.threepillars.org/event/the-power-in-your-power-of-attorney/
LOCATION:Holz Pavilion Theater\, 314 E Village Ct\, Dousman\, WI\, 53188\, United States
CATEGORIES:Cognitive Health Initiatives,Community Education
ATTACH;FMTTYPE=image/png:https://www.threepillars.org/wp-content/uploads/2026/03/Event-Pic-The-Power-in-Your-Power-of-Attorney-scaled.png
END:VEVENT
END:VCALENDAR