BEGIN:VCALENDAR
VERSION:2.0
PRODID:-//Three Pillars Senior Living Communities - ECPv6.15.20//NONSGML v1.0//EN
CALSCALE:GREGORIAN
METHOD:PUBLISH
X-WR-CALNAME:Three Pillars Senior Living Communities
X-ORIGINAL-URL:https://www.threepillars.org
X-WR-CALDESC:Events for Three Pillars Senior Living Communities
REFRESH-INTERVAL;VALUE=DURATION:PT1H
X-Robots-Tag:noindex
X-PUBLISHED-TTL:PT1H
BEGIN:VTIMEZONE
TZID:UTC
BEGIN:STANDARD
TZOFFSETFROM:+0000
TZOFFSETTO:+0000
TZNAME:UTC
DTSTART:20220101T000000
END:STANDARD
END:VTIMEZONE
BEGIN:VEVENT
DTSTART;TZID=UTC:20231005T111500
DTEND;TZID=UTC:20231005T133000
DTSTAMP:20260421T102215
CREATED:20230807T144017Z
LAST-MODIFIED:20230918T201231Z
UID:2072-1696504500-1696512600@www.threepillars.org
SUMMARY:Lunch & Learn | My Two Elaines with Marty Schreiber | Lunch & Program
DESCRIPTION:In honor of worldwide Alzheimers month in September\, please join Three Pillars as we host Marty Schreiber\, former Wisconsin governor and author of “My Two Elaines” – A story on his journey as an Alzheimer’s caregiver for his wife. He will share honest\, practical\, and heartfelt wisdom to help Alzheimer’s caregivers learn\, cope\, and survive. \nMartin J. Schreiber shares his heartrending 18-year experience of watching his wife Elaine transform into a person who no longer recognizes her husband and children. His message for fellow caregivers: There is hope in the sorrow and strength in knowing you are not alone. \nOne-part love story\, one-part practical advice\, My Two Elaines includes not only Schreiber’s insightful takeaways of what he wishes he’d known sooner and done differently as a caregiver\, it also features excerpts from Elaine’s personal journal\, recounting her thoughts\, concerns\, and frustrations as her disease progressed. \nAs a top priority at Three Pillars\, we are addressing the need for more memory care programming and services for those affected by dementia. Learn more about the impact we are making at the event. \nMarty’s books will be available for sale at $20 each. You may also pre-purchase the book as well. You can use this link to pre purchase the book and we will have it for you the day of the Lunch & Learn. \n\nPurchase your tickets here. \nLunch menu – coming soon! \n\nParking is available at Village on the Square | 375 State Road 67\, Dousman\, WI 53118
URL:https://www.threepillars.org/event/lunch-learn-my-two-elaines-with-marty-schreiber-lunch-program/
LOCATION:Village on the Square Community Room\, 314 E Village Court\, Dousman\, WI\, 53118
END:VEVENT
END:VCALENDAR